BEGIN:VCALENDAR
METHOD:PUBLISH
VERSION:2.0
CALSCALE:GREGORIAN
PRODID:-//NONSGML WPForms//NONSGML Sugar Calendar Feeds v3.11.0//EN
X-WR-CALNAME:Federación Española de Bolos
X-WR-CALDESC:
X-WR-TIMEZONE:Europe/Madrid
BEGIN:VTIMEZONE
TZID:Europe/Madrid
BEGIN:STANDARD
TZOFFSETFROM:+0200
TZOFFSETTO:+0100
DTSTART:20221030T010000
TZNAME:CET
END:STANDARD
BEGIN:DAYLIGHT
TZOFFSETFROM:+0100
TZOFFSETTO:+0200
DTSTART:20230326T010000
TZNAME:CEST
END:DAYLIGHT
END:VTIMEZONE
BEGIN:VTIMEZONE
TZID:Europe/Madrid
BEGIN:STANDARD
TZOFFSETFROM:+0200
TZOFFSETTO:+0100
DTSTART:20221030T010000
TZNAME:CET
END:STANDARD
BEGIN:DAYLIGHT
TZOFFSETFROM:+0100
TZOFFSETTO:+0200
DTSTART:20230326T010000
TZNAME:CEST
END:DAYLIGHT
END:VTIMEZONE
BEGIN:VEVENT
SUMMARY:Torneo Ozone X - Madrid
DESCRIPTION:
URL;VALUE=URI:https://febolos.es/events/torneo-ozone-x-madrid/
UID:urn:uuid:b854dcf0-53bd-430e-bb6d-8c13a454fe88
STATUS:CONFIRMED
ORGANIZER:
DTSTAMP:20260422T001424Z
DTSTART;TZID=Europe/Madrid:20230128T000000
DTEND;TZID=Europe/Madrid:20230205T000000
LOCATION:Alcorcon (Madrid)
END:VEVENT
BEGIN:VEVENT
SUMMARY:European Senior Championships 2023
DESCRIPTION:
URL;VALUE=URI:https://febolos.es/events/european-senior-championships-20
 23/
UID:urn:uuid:5e6363a8-de03-44ac-bf31-ec1ba676f162
STATUS:CONFIRMED
ORGANIZER:
DTSTAMP:20260422T001424Z
DTSTART;TZID=Europe/Madrid:20230127T000000
DTEND;TZID=Europe/Madrid:20230205T000000
LOCATION:Aalborg (Dinamarca)
END:VEVENT
BEGIN:VEVENT
SUMMARY:Cto. España Sub 19
DESCRIPTION:
URL;VALUE=URI:https://febolos.es/events/cto-espana-sub-19/
UID:urn:uuid:d7b2e956-4764-48f5-bb06-a8ee11ad8066
STATUS:CONFIRMED
ORGANIZER:
DTSTAMP:20260422T001424Z
DTSTART;TZID=Europe/Madrid:20230211T000000
DTEND;TZID=Europe/Madrid:20230211T000000
LOCATION:Chamartin (Madrid)
END:VEVENT
BEGIN:VEVENT
SUMMARY:2ª Jornada Liga nacional Bowling
DESCRIPTION:
URL;VALUE=URI:https://febolos.es/events/2a-jornada-liga-nacional-bowling
 /
UID:urn:uuid:2a73c57c-e7b9-4704-aea7-eee6f16cb292
STATUS:CONFIRMED
ORGANIZER:
DTSTAMP:20260422T001424Z
DTSTART;TZID=Europe/Madrid:20230218T000000
DTEND;TZID=Europe/Madrid:20230219T000000
LOCATION:Granada-Madrid-Valencia-Torrevieja-Madrid
END:VEVENT
BEGIN:VEVENT
SUMMARY:Torneo Preselección Europeo
DESCRIPTION:
URL;VALUE=URI:https://febolos.es/events/torneo-preseleccion-europeo/
UID:urn:uuid:b2f2d46e-0f4e-48cc-995d-c4ecf3517d95
STATUS:CONFIRMED
ORGANIZER:
DTSTAMP:20260422T001424Z
DTSTART;TZID=Europe/Madrid:20230304T000000
DTEND;TZID=Europe/Madrid:20230305T000000
LOCATION:Logroño
END:VEVENT
BEGIN:VEVENT
SUMMARY:Concentración Selección Española
DESCRIPTION:
URL;VALUE=URI:https://febolos.es/events/concentracion-seleccion-espanola
 /
UID:urn:uuid:d8f6bbd6-f215-4095-879c-1eae843fb65a
STATUS:CONFIRMED
ORGANIZER:
DTSTAMP:20260422T001424Z
DTSTART;TZID=Europe/Madrid:20230304T000000
DTEND;TZID=Europe/Madrid:20230305T000000
LOCATION:Madrid
END:VEVENT
BEGIN:VEVENT
SUMMARY:Torneo Promoción AECB
DESCRIPTION:
URL;VALUE=URI:https://febolos.es/events/torneo-promocion-aecb/
UID:urn:uuid:f65e437f-2d2c-4060-bc39-660f4ec17357
STATUS:CONFIRMED
ORGANIZER:
DTSTAMP:20260422T001424Z
DTSTART;TZID=Europe/Madrid:20230304T000000
DTEND;TZID=Europe/Madrid:20230305T000000
LOCATION:Torrevieja (Alicante)
END:VEVENT
BEGIN:VEVENT
SUMMARY:Copa S.M. la Reina - Cto. España Clubs Iberdrola
DESCRIPTION:
URL;VALUE=URI:https://febolos.es/events/copa-sm-la-reina-cto-espana-club
 s-iberdrola/
UID:urn:uuid:ce603108-0740-4434-9d20-7b46c09646a1
STATUS:CONFIRMED
ORGANIZER:
DTSTAMP:20260422T001424Z
DTSTART;TZID=Europe/Madrid:20230401T000000
DTEND;TZID=Europe/Madrid:20230402T000000
LOCATION:Madrid
END:VEVENT
BEGIN:VEVENT
SUMMARY:Copa S.M. el Rey - Cto. España Clubs
DESCRIPTION:
URL;VALUE=URI:https://febolos.es/events/copa-sm-el-rey-cto-espana-clubs/
UID:urn:uuid:769bd12a-0e5b-4686-b5d2-1fdd3da9debe
STATUS:CONFIRMED
ORGANIZER:
DTSTAMP:20260422T001424Z
DTSTART;TZID=Europe/Madrid:20230401T000000
DTEND;TZID=Europe/Madrid:20230402T000000
LOCATION:Madrid
END:VEVENT
BEGIN:VEVENT
SUMMARY:European Youth Championships 2023
DESCRIPTION:
URL;VALUE=URI:https://febolos.es/events/european-youth-championships-202
 3/
UID:urn:uuid:197f91b7-1976-4908-9e85-11d45076b801
STATUS:CONFIRMED
ORGANIZER:
DTSTAMP:20260422T001424Z
DTSTART;TZID=Europe/Madrid:20230401T000000
DTEND;TZID=Europe/Madrid:20230410T000000
LOCATION:Viena (Austria)
END:VEVENT
BEGIN:VEVENT
SUMMARY:3ª Jornada Liga Nacional Bowling
DESCRIPTION:
URL;VALUE=URI:https://febolos.es/events/3a-jornada-liga-nacional-bowling
 /
UID:urn:uuid:fcdfd4a8-a3d8-41b7-a5c0-cb8f178af97b
STATUS:CONFIRMED
ORGANIZER:
DTSTAMP:20260422T001424Z
DTSTART;TZID=Europe/Madrid:20230415T000000
DTEND;TZID=Europe/Madrid:20230416T000000
LOCATION:Madrid - Torrelodones - Logroño
END:VEVENT
BEGIN:VEVENT
SUMMARY:3ª Jornada Liga Nacional D.H. Masculina
DESCRIPTION:
URL;VALUE=URI:https://febolos.es/events/3a-jornada-liga-nacional-dh-masc
 ulina/
UID:urn:uuid:4acf5101-e0c8-47fb-a4e0-349ad73e1968
STATUS:CONFIRMED
ORGANIZER:
DTSTAMP:20260422T001424Z
DTSTART;TZID=Europe/Madrid:20230422T000000
DTEND;TZID=Europe/Madrid:20230423T000000
LOCATION:Valencia
END:VEVENT
BEGIN:VEVENT
SUMMARY:Torneo de la Vendimia
DESCRIPTION:
URL;VALUE=URI:https://febolos.es/events/torneo-de-la-vendimia/
UID:urn:uuid:e8e07bef-d302-4924-8991-130c241e35cc
STATUS:CONFIRMED
ORGANIZER:
DTSTAMP:20260422T001424Z
DTSTART;TZID=Europe/Madrid:20230422T000000
DTEND;TZID=Europe/Madrid:20230501T000000
LOCATION:Logroño
END:VEVENT
BEGIN:VEVENT
SUMMARY:3ª Jornada Liga AECB
DESCRIPTION:
URL;VALUE=URI:https://febolos.es/events/3a-jornada-liga-aecb/
UID:urn:uuid:1f860701-8cd3-461f-b9d5-eadb01e1c96c
STATUS:CONFIRMED
ORGANIZER:
DTSTAMP:20260422T001424Z
DTSTART;TZID=Europe/Madrid:20230506T000000
DTEND;TZID=Europe/Madrid:20230507T000000
LOCATION:Madrid
END:VEVENT
BEGIN:VEVENT
SUMMARY:Cto. Iberoamericano
DESCRIPTION:
URL;VALUE=URI:https://febolos.es/events/cto-iberoamericano/
UID:urn:uuid:edcfa2b7-feb0-4e7d-8a3f-2451a03a3a53
STATUS:CONFIRMED
ORGANIZER:
DTSTAMP:20260422T001424Z
DTSTART;TZID=Europe/Madrid:20230428T000000
DTEND;TZID=Europe/Madrid:20230504T000000
LOCATION:Lima (Perú)
END:VEVENT
BEGIN:VEVENT
SUMMARY:Cto. España Senior
DESCRIPTION:
URL;VALUE=URI:https://febolos.es/events/cto-espana-senior/
UID:urn:uuid:a53b8cbf-986e-4453-a469-15c47f0992c2
STATUS:CONFIRMED
ORGANIZER:
DTSTAMP:20260422T001424Z
DTSTART;TZID=Europe/Madrid:20230513T000000
DTEND;TZID=Europe/Madrid:20230514T000000
LOCATION:Madrid
END:VEVENT
BEGIN:VEVENT
SUMMARY:Mediterranean Bowling Championships 2023
DESCRIPTION:
URL;VALUE=URI:https://febolos.es/events/mediterranean-bowling-championsh
 ips-2023/
UID:urn:uuid:e3add5cb-eba8-4730-b77b-6ea8add3fcc1
STATUS:CONFIRMED
ORGANIZER:
DTSTAMP:20260422T001424Z
DTSTART;TZID=Europe/Madrid:20230507T000000
DTEND;TZID=Europe/Madrid:20230514T000000
LOCATION:San Marino
END:VEVENT
BEGIN:VEVENT
SUMMARY:Concentración Selección Española
DESCRIPTION:
URL;VALUE=URI:https://febolos.es/events/concentracion-seleccion-espanola
 /
UID:urn:uuid:5f3f327c-ba8f-4340-a53f-95bd013c8131
STATUS:CONFIRMED
ORGANIZER:
DTSTAMP:20260422T001424Z
DTSTART;TZID=Europe/Madrid:20230520T000000
DTEND;TZID=Europe/Madrid:20230521T000000
LOCATION:Madrid
END:VEVENT
BEGIN:VEVENT
SUMMARY:Torneo Promoción AECB
DESCRIPTION:
URL;VALUE=URI:https://febolos.es/events/torneo-promocion-aecb/
UID:urn:uuid:c1a24877-a010-4be4-877c-3287a70ced26
STATUS:CONFIRMED
ORGANIZER:
DTSTAMP:20260422T001424Z
DTSTART;TZID=Europe/Madrid:20230520T000000
DTEND;TZID=Europe/Madrid:20230521T000000
LOCATION:Zaragoza
END:VEVENT
BEGIN:VEVENT
SUMMARY:Torneo Boliches
DESCRIPTION:
URL;VALUE=URI:https://febolos.es/events/torneo-boliches/
UID:urn:uuid:496d866f-bea9-49fe-b236-c5b74c895408
STATUS:CONFIRMED
ORGANIZER:
DTSTAMP:20260422T001424Z
DTSTART;TZID=Europe/Madrid:20230522T000000
DTEND;TZID=Europe/Madrid:20230528T000000
LOCATION:Madrid
END:VEVENT
BEGIN:VEVENT
SUMMARY:Cto. España Selecciones Autonómicas
DESCRIPTION:
URL;VALUE=URI:https://febolos.es/events/cto-espana-selecciones-autonomic
 as/
UID:urn:uuid:d371beee-7953-4e98-a6ba-faeff267d77c
STATUS:CONFIRMED
ORGANIZER:
DTSTAMP:20260422T001424Z
DTSTART;TZID=Europe/Madrid:20230603T000000
DTEND;TZID=Europe/Madrid:20230604T000000
LOCATION:Madrid
END:VEVENT
BEGIN:VEVENT
SUMMARY:Copa de Oro Handicap
DESCRIPTION:
URL;VALUE=URI:https://febolos.es/events/copa-de-oro-handicap/
UID:urn:uuid:5495f7f5-ea24-41d1-8192-fccb0bdf40bf
STATUS:CONFIRMED
ORGANIZER:
DTSTAMP:20260422T001424Z
DTSTART;TZID=Europe/Madrid:20230610T000000
DTEND;TZID=Europe/Madrid:20230611T000000
LOCATION:Torrevieja (Alicante)
END:VEVENT
BEGIN:VEVENT
SUMMARY:Cto. España Corporativo
DESCRIPTION:
URL;VALUE=URI:https://febolos.es/events/cto-espana-corporativo/
UID:urn:uuid:ccf3af2c-7250-4178-bb30-d3d808a7167c
STATUS:CONFIRMED
ORGANIZER:
DTSTAMP:20260422T001424Z
DTSTART;TZID=Europe/Madrid:20230617T000000
DTEND;TZID=Europe/Madrid:20230618T000000
LOCATION:Madrid
END:VEVENT
BEGIN:VEVENT
SUMMARY:European Men Championships 2023
DESCRIPTION:
URL;VALUE=URI:https://febolos.es/events/european-men-championships-2023/
UID:urn:uuid:89715213-eaa7-47bd-8eab-aebb3480e874
STATUS:CONFIRMED
ORGANIZER:
DTSTAMP:20260422T001424Z
DTSTART;TZID=Europe/Madrid:20230607T000000
DTEND;TZID=Europe/Madrid:20230618T000000
LOCATION:Wittelheim (Francia)
END:VEVENT
BEGIN:VEVENT
SUMMARY:Masters Categorías AECB
DESCRIPTION:
URL;VALUE=URI:https://febolos.es/events/masters-categorias-aecb/
UID:urn:uuid:12cd3d3b-c282-41c4-a68b-9262786470d3
STATUS:CONFIRMED
ORGANIZER:
DTSTAMP:20260422T001424Z
DTSTART;TZID=Europe/Madrid:20230624T000000
DTEND;TZID=Europe/Madrid:20230625T000000
LOCATION:Madrid
END:VEVENT
END:VCALENDAR